BEGIN:VCALENDAR
VERSION:2.0
PRODID:-//Weston Sub Edge Parish Council - ECPv6.15.18//NONSGML v1.0//EN
CALSCALE:GREGORIAN
METHOD:PUBLISH
X-ORIGINAL-URL:https://westonsubedge.com
X-WR-CALDESC:Events for Weston Sub Edge Parish Council
REFRESH-INTERVAL;VALUE=DURATION:PT1H
X-Robots-Tag:noindex
X-PUBLISHED-TTL:PT1H
BEGIN:VTIMEZONE
TZID:Europe/London
BEGIN:DAYLIGHT
TZOFFSETFROM:+0000
TZOFFSETTO:+0100
TZNAME:BST
DTSTART:20260329T010000
END:DAYLIGHT
BEGIN:STANDARD
TZOFFSETFROM:+0100
TZOFFSETTO:+0000
TZNAME:GMT
DTSTART:20261025T010000
END:STANDARD
BEGIN:DAYLIGHT
TZOFFSETFROM:+0000
TZOFFSETTO:+0100
TZNAME:BST
DTSTART:20270328T010000
END:DAYLIGHT
BEGIN:STANDARD
TZOFFSETFROM:+0100
TZOFFSETTO:+0000
TZNAME:GMT
DTSTART:20271031T010000
END:STANDARD
BEGIN:DAYLIGHT
TZOFFSETFROM:+0000
TZOFFSETTO:+0100
TZNAME:BST
DTSTART:20280326T010000
END:DAYLIGHT
BEGIN:STANDARD
TZOFFSETFROM:+0100
TZOFFSETTO:+0000
TZNAME:GMT
DTSTART:20281029T010000
END:STANDARD
END:VTIMEZONE
BEGIN:VEVENT
DTSTART;TZID=Europe/London:20270106T183000
DTEND;TZID=Europe/London:20270106T193000
DTSTAMP:20260421T092730
CREATED:20240510T153249Z
LAST-MODIFIED:20240516T190821Z
UID:10000899-1799260200-1799263800@westonsubedge.com
SUMMARY:Zumba
DESCRIPTION:6.30pm to 7.30pm call to book 07950602609
URL:https://westonsubedge.com/event/zumba-7/2027-01-06
CATEGORIES:Village Hall Events
ATTACH;FMTTYPE=image/png:https://westonsubedge.com/wp-content/uploads/2024/05/Zumba.png
END:VEVENT
BEGIN:VEVENT
DTSTART;TZID=Europe/London:20270108T094500
DTEND;TZID=Europe/London:20270108T104500
DTSTAMP:20260421T092730
CREATED:20240516T185928Z
LAST-MODIFIED:20240606T214032Z
UID:10000370-1799401500-1799405100@westonsubedge.com
SUMMARY:Gentle Yoga - Booking Essential.
DESCRIPTION:Contact\nWendy Salmon\nwendysalmonyoga@gmail.com\nO7969689402
URL:https://westonsubedge.com/event/gentle-yoga-booking-essential-2-2/2027-01-08
LOCATION:Village Hall
CATEGORIES:Village Hall Events
END:VEVENT
BEGIN:VEVENT
DTSTART;TZID=Europe/London:20270113T080000
DTEND;TZID=Europe/London:20270113T110000
DTSTAMP:20260421T092730
CREATED:20240405T092504Z
LAST-MODIFIED:20240516T190644Z
UID:10000640-1799827200-1799838000@westonsubedge.com
SUMMARY:Dog Training - KC Approved
DESCRIPTION:Contact\nKaye Littlehales\nkayeclasses@btinternet.com\nO7747798092
URL:https://westonsubedge.com/event/dog-training-kc-approved-4/2027-01-13
LOCATION:Village Hall
CATEGORIES:Village Hall Events
END:VEVENT
BEGIN:VEVENT
DTSTART;TZID=Europe/London:20270113T140000
DTEND;TZID=Europe/London:20270113T150000
DTSTAMP:20260421T092730
CREATED:20260330T141453Z
LAST-MODIFIED:20260330T141719Z
UID:10001644-1799848800-1799852400@westonsubedge.com
SUMMARY:T’ai chi class
DESCRIPTION:T’ai chi class 2-3pm
URL:https://westonsubedge.com/event/12989/2027-01-13
LOCATION:Village Hall
END:VEVENT
BEGIN:VEVENT
DTSTART;TZID=Europe/London:20270113T183000
DTEND;TZID=Europe/London:20270113T193000
DTSTAMP:20260421T092730
CREATED:20240510T153249Z
LAST-MODIFIED:20240516T190821Z
UID:10000900-1799865000-1799868600@westonsubedge.com
SUMMARY:Zumba
DESCRIPTION:6.30pm to 7.30pm call to book 07950602609
URL:https://westonsubedge.com/event/zumba-7/2027-01-13
CATEGORIES:Village Hall Events
ATTACH;FMTTYPE=image/png:https://westonsubedge.com/wp-content/uploads/2024/05/Zumba.png
END:VEVENT
BEGIN:VEVENT
DTSTART;TZID=Europe/London:20270115T094500
DTEND;TZID=Europe/London:20270115T104500
DTSTAMP:20260421T092730
CREATED:20240516T185928Z
LAST-MODIFIED:20240606T214032Z
UID:10000371-1800006300-1800009900@westonsubedge.com
SUMMARY:Gentle Yoga - Booking Essential.
DESCRIPTION:Contact\nWendy Salmon\nwendysalmonyoga@gmail.com\nO7969689402
URL:https://westonsubedge.com/event/gentle-yoga-booking-essential-2-2/2027-01-15
LOCATION:Village Hall
CATEGORIES:Village Hall Events
END:VEVENT
BEGIN:VEVENT
DTSTART;TZID=Europe/London:20270120T080000
DTEND;TZID=Europe/London:20270120T110000
DTSTAMP:20260421T092730
CREATED:20240405T092504Z
LAST-MODIFIED:20240516T190644Z
UID:10000641-1800432000-1800442800@westonsubedge.com
SUMMARY:Dog Training - KC Approved
DESCRIPTION:Contact\nKaye Littlehales\nkayeclasses@btinternet.com\nO7747798092
URL:https://westonsubedge.com/event/dog-training-kc-approved-4/2027-01-20
LOCATION:Village Hall
CATEGORIES:Village Hall Events
END:VEVENT
BEGIN:VEVENT
DTSTART;TZID=Europe/London:20270120T140000
DTEND;TZID=Europe/London:20270120T150000
DTSTAMP:20260421T092730
CREATED:20260330T141453Z
LAST-MODIFIED:20260330T141719Z
UID:10001645-1800453600-1800457200@westonsubedge.com
SUMMARY:T’ai chi class
DESCRIPTION:T’ai chi class 2-3pm
URL:https://westonsubedge.com/event/12989/2027-01-20
LOCATION:Village Hall
END:VEVENT
BEGIN:VEVENT
DTSTART;TZID=Europe/London:20270120T183000
DTEND;TZID=Europe/London:20270120T193000
DTSTAMP:20260421T092730
CREATED:20240510T153249Z
LAST-MODIFIED:20240516T190821Z
UID:10000901-1800469800-1800473400@westonsubedge.com
SUMMARY:Zumba
DESCRIPTION:6.30pm to 7.30pm call to book 07950602609
URL:https://westonsubedge.com/event/zumba-7/2027-01-20
CATEGORIES:Village Hall Events
ATTACH;FMTTYPE=image/png:https://westonsubedge.com/wp-content/uploads/2024/05/Zumba.png
END:VEVENT
BEGIN:VEVENT
DTSTART;TZID=Europe/London:20270122T094500
DTEND;TZID=Europe/London:20270122T104500
DTSTAMP:20260421T092730
CREATED:20240516T185928Z
LAST-MODIFIED:20240606T214032Z
UID:10000372-1800611100-1800614700@westonsubedge.com
SUMMARY:Gentle Yoga - Booking Essential.
DESCRIPTION:Contact\nWendy Salmon\nwendysalmonyoga@gmail.com\nO7969689402
URL:https://westonsubedge.com/event/gentle-yoga-booking-essential-2-2/2027-01-22
LOCATION:Village Hall
CATEGORIES:Village Hall Events
END:VEVENT
BEGIN:VEVENT
DTSTART;TZID=Europe/London:20270127T080000
DTEND;TZID=Europe/London:20270127T110000
DTSTAMP:20260421T092730
CREATED:20240405T092504Z
LAST-MODIFIED:20240516T190644Z
UID:10000642-1801036800-1801047600@westonsubedge.com
SUMMARY:Dog Training - KC Approved
DESCRIPTION:Contact\nKaye Littlehales\nkayeclasses@btinternet.com\nO7747798092
URL:https://westonsubedge.com/event/dog-training-kc-approved-4/2027-01-27
LOCATION:Village Hall
CATEGORIES:Village Hall Events
END:VEVENT
BEGIN:VEVENT
DTSTART;TZID=Europe/London:20270127T140000
DTEND;TZID=Europe/London:20270127T150000
DTSTAMP:20260421T092730
CREATED:20260330T141453Z
LAST-MODIFIED:20260330T141719Z
UID:10001646-1801058400-1801062000@westonsubedge.com
SUMMARY:T’ai chi class
DESCRIPTION:T’ai chi class 2-3pm
URL:https://westonsubedge.com/event/12989/2027-01-27
LOCATION:Village Hall
END:VEVENT
BEGIN:VEVENT
DTSTART;TZID=Europe/London:20270127T183000
DTEND;TZID=Europe/London:20270127T193000
DTSTAMP:20260421T092730
CREATED:20240510T153249Z
LAST-MODIFIED:20240516T190821Z
UID:10000902-1801074600-1801078200@westonsubedge.com
SUMMARY:Zumba
DESCRIPTION:6.30pm to 7.30pm call to book 07950602609
URL:https://westonsubedge.com/event/zumba-7/2027-01-27
CATEGORIES:Village Hall Events
ATTACH;FMTTYPE=image/png:https://westonsubedge.com/wp-content/uploads/2024/05/Zumba.png
END:VEVENT
BEGIN:VEVENT
DTSTART;TZID=Europe/London:20270129T094500
DTEND;TZID=Europe/London:20270129T104500
DTSTAMP:20260421T092730
CREATED:20240516T185928Z
LAST-MODIFIED:20240606T214032Z
UID:10000373-1801215900-1801219500@westonsubedge.com
SUMMARY:Gentle Yoga - Booking Essential.
DESCRIPTION:Contact\nWendy Salmon\nwendysalmonyoga@gmail.com\nO7969689402
URL:https://westonsubedge.com/event/gentle-yoga-booking-essential-2-2/2027-01-29
LOCATION:Village Hall
CATEGORIES:Village Hall Events
END:VEVENT
BEGIN:VEVENT
DTSTART;TZID=Europe/London:20270203T080000
DTEND;TZID=Europe/London:20270203T110000
DTSTAMP:20260421T092730
CREATED:20240405T092504Z
LAST-MODIFIED:20240516T190644Z
UID:10000643-1801641600-1801652400@westonsubedge.com
SUMMARY:Dog Training - KC Approved
DESCRIPTION:Contact\nKaye Littlehales\nkayeclasses@btinternet.com\nO7747798092
URL:https://westonsubedge.com/event/dog-training-kc-approved-4/2027-02-03
LOCATION:Village Hall
CATEGORIES:Village Hall Events
END:VEVENT
BEGIN:VEVENT
DTSTART;TZID=Europe/London:20270203T140000
DTEND;TZID=Europe/London:20270203T150000
DTSTAMP:20260421T092730
CREATED:20260330T141453Z
LAST-MODIFIED:20260330T141719Z
UID:10001647-1801663200-1801666800@westonsubedge.com
SUMMARY:T’ai chi class
DESCRIPTION:T’ai chi class 2-3pm
URL:https://westonsubedge.com/event/12989/2027-02-03
LOCATION:Village Hall
END:VEVENT
BEGIN:VEVENT
DTSTART;TZID=Europe/London:20270203T183000
DTEND;TZID=Europe/London:20270203T193000
DTSTAMP:20260421T092730
CREATED:20240510T153249Z
LAST-MODIFIED:20240516T190821Z
UID:10000903-1801679400-1801683000@westonsubedge.com
SUMMARY:Zumba
DESCRIPTION:6.30pm to 7.30pm call to book 07950602609
URL:https://westonsubedge.com/event/zumba-7/2027-02-03
CATEGORIES:Village Hall Events
ATTACH;FMTTYPE=image/png:https://westonsubedge.com/wp-content/uploads/2024/05/Zumba.png
END:VEVENT
BEGIN:VEVENT
DTSTART;TZID=Europe/London:20270205T094500
DTEND;TZID=Europe/London:20270205T104500
DTSTAMP:20260421T092730
CREATED:20240516T185928Z
LAST-MODIFIED:20240606T214032Z
UID:10000374-1801820700-1801824300@westonsubedge.com
SUMMARY:Gentle Yoga - Booking Essential.
DESCRIPTION:Contact\nWendy Salmon\nwendysalmonyoga@gmail.com\nO7969689402
URL:https://westonsubedge.com/event/gentle-yoga-booking-essential-2-2/2027-02-05
LOCATION:Village Hall
CATEGORIES:Village Hall Events
END:VEVENT
BEGIN:VEVENT
DTSTART;TZID=Europe/London:20270210T080000
DTEND;TZID=Europe/London:20270210T110000
DTSTAMP:20260421T092730
CREATED:20240405T092504Z
LAST-MODIFIED:20240516T190644Z
UID:10000644-1802246400-1802257200@westonsubedge.com
SUMMARY:Dog Training - KC Approved
DESCRIPTION:Contact\nKaye Littlehales\nkayeclasses@btinternet.com\nO7747798092
URL:https://westonsubedge.com/event/dog-training-kc-approved-4/2027-02-10
LOCATION:Village Hall
CATEGORIES:Village Hall Events
END:VEVENT
BEGIN:VEVENT
DTSTART;TZID=Europe/London:20270210T140000
DTEND;TZID=Europe/London:20270210T150000
DTSTAMP:20260421T092730
CREATED:20260330T141453Z
LAST-MODIFIED:20260330T141719Z
UID:10001648-1802268000-1802271600@westonsubedge.com
SUMMARY:T’ai chi class
DESCRIPTION:T’ai chi class 2-3pm
URL:https://westonsubedge.com/event/12989/2027-02-10
LOCATION:Village Hall
END:VEVENT
BEGIN:VEVENT
DTSTART;TZID=Europe/London:20270210T183000
DTEND;TZID=Europe/London:20270210T193000
DTSTAMP:20260421T092730
CREATED:20240510T153249Z
LAST-MODIFIED:20240516T190821Z
UID:10000904-1802284200-1802287800@westonsubedge.com
SUMMARY:Zumba
DESCRIPTION:6.30pm to 7.30pm call to book 07950602609
URL:https://westonsubedge.com/event/zumba-7/2027-02-10
CATEGORIES:Village Hall Events
ATTACH;FMTTYPE=image/png:https://westonsubedge.com/wp-content/uploads/2024/05/Zumba.png
END:VEVENT
BEGIN:VEVENT
DTSTART;TZID=Europe/London:20270212T094500
DTEND;TZID=Europe/London:20270212T104500
DTSTAMP:20260421T092730
CREATED:20240516T185928Z
LAST-MODIFIED:20240606T214032Z
UID:10000375-1802425500-1802429100@westonsubedge.com
SUMMARY:Gentle Yoga - Booking Essential.
DESCRIPTION:Contact\nWendy Salmon\nwendysalmonyoga@gmail.com\nO7969689402
URL:https://westonsubedge.com/event/gentle-yoga-booking-essential-2-2/2027-02-12
LOCATION:Village Hall
CATEGORIES:Village Hall Events
END:VEVENT
BEGIN:VEVENT
DTSTART;TZID=Europe/London:20270217T080000
DTEND;TZID=Europe/London:20270217T110000
DTSTAMP:20260421T092730
CREATED:20240405T092504Z
LAST-MODIFIED:20240516T190644Z
UID:10000645-1802851200-1802862000@westonsubedge.com
SUMMARY:Dog Training - KC Approved
DESCRIPTION:Contact\nKaye Littlehales\nkayeclasses@btinternet.com\nO7747798092
URL:https://westonsubedge.com/event/dog-training-kc-approved-4/2027-02-17
LOCATION:Village Hall
CATEGORIES:Village Hall Events
END:VEVENT
BEGIN:VEVENT
DTSTART;TZID=Europe/London:20270217T140000
DTEND;TZID=Europe/London:20270217T150000
DTSTAMP:20260421T092730
CREATED:20260330T141453Z
LAST-MODIFIED:20260330T141719Z
UID:10001649-1802872800-1802876400@westonsubedge.com
SUMMARY:T’ai chi class
DESCRIPTION:T’ai chi class 2-3pm
URL:https://westonsubedge.com/event/12989/2027-02-17
LOCATION:Village Hall
END:VEVENT
BEGIN:VEVENT
DTSTART;TZID=Europe/London:20270217T183000
DTEND;TZID=Europe/London:20270217T193000
DTSTAMP:20260421T092730
CREATED:20240510T153249Z
LAST-MODIFIED:20240516T190821Z
UID:10000905-1802889000-1802892600@westonsubedge.com
SUMMARY:Zumba
DESCRIPTION:6.30pm to 7.30pm call to book 07950602609
URL:https://westonsubedge.com/event/zumba-7/2027-02-17
CATEGORIES:Village Hall Events
ATTACH;FMTTYPE=image/png:https://westonsubedge.com/wp-content/uploads/2024/05/Zumba.png
END:VEVENT
BEGIN:VEVENT
DTSTART;TZID=Europe/London:20270219T094500
DTEND;TZID=Europe/London:20270219T104500
DTSTAMP:20260421T092730
CREATED:20240516T185928Z
LAST-MODIFIED:20240606T214032Z
UID:10000376-1803030300-1803033900@westonsubedge.com
SUMMARY:Gentle Yoga - Booking Essential.
DESCRIPTION:Contact\nWendy Salmon\nwendysalmonyoga@gmail.com\nO7969689402
URL:https://westonsubedge.com/event/gentle-yoga-booking-essential-2-2/2027-02-19
LOCATION:Village Hall
CATEGORIES:Village Hall Events
END:VEVENT
BEGIN:VEVENT
DTSTART;TZID=Europe/London:20270224T080000
DTEND;TZID=Europe/London:20270224T110000
DTSTAMP:20260421T092730
CREATED:20240405T092504Z
LAST-MODIFIED:20240516T190644Z
UID:10000646-1803456000-1803466800@westonsubedge.com
SUMMARY:Dog Training - KC Approved
DESCRIPTION:Contact\nKaye Littlehales\nkayeclasses@btinternet.com\nO7747798092
URL:https://westonsubedge.com/event/dog-training-kc-approved-4/2027-02-24
LOCATION:Village Hall
CATEGORIES:Village Hall Events
END:VEVENT
BEGIN:VEVENT
DTSTART;TZID=Europe/London:20270224T140000
DTEND;TZID=Europe/London:20270224T150000
DTSTAMP:20260421T092730
CREATED:20260330T141453Z
LAST-MODIFIED:20260330T141719Z
UID:10001650-1803477600-1803481200@westonsubedge.com
SUMMARY:T’ai chi class
DESCRIPTION:T’ai chi class 2-3pm
URL:https://westonsubedge.com/event/12989/2027-02-24
LOCATION:Village Hall
END:VEVENT
BEGIN:VEVENT
DTSTART;TZID=Europe/London:20270224T183000
DTEND;TZID=Europe/London:20270224T193000
DTSTAMP:20260421T092730
CREATED:20240510T153249Z
LAST-MODIFIED:20240516T190821Z
UID:10000906-1803493800-1803497400@westonsubedge.com
SUMMARY:Zumba
DESCRIPTION:6.30pm to 7.30pm call to book 07950602609
URL:https://westonsubedge.com/event/zumba-7/2027-02-24
CATEGORIES:Village Hall Events
ATTACH;FMTTYPE=image/png:https://westonsubedge.com/wp-content/uploads/2024/05/Zumba.png
END:VEVENT
BEGIN:VEVENT
DTSTART;TZID=Europe/London:20270226T094500
DTEND;TZID=Europe/London:20270226T104500
DTSTAMP:20260421T092730
CREATED:20240516T185928Z
LAST-MODIFIED:20240606T214032Z
UID:10000377-1803635100-1803638700@westonsubedge.com
SUMMARY:Gentle Yoga - Booking Essential.
DESCRIPTION:Contact\nWendy Salmon\nwendysalmonyoga@gmail.com\nO7969689402
URL:https://westonsubedge.com/event/gentle-yoga-booking-essential-2-2/2027-02-26
LOCATION:Village Hall
CATEGORIES:Village Hall Events
END:VEVENT
END:VCALENDAR